BEGIN:VCALENDAR
VERSION:2.0
PRODID:-//Edenvale Bowling Club - ECPv6.15.20//NONSGML v1.0//EN
CALSCALE:GREGORIAN
METHOD:PUBLISH
X-WR-CALNAME:Edenvale Bowling Club
X-ORIGINAL-URL:https://www.edenvalebowls.co.za
X-WR-CALDESC:Events for Edenvale Bowling Club
REFRESH-INTERVAL;VALUE=DURATION:PT1H
X-Robots-Tag:noindex
X-PUBLISHED-TTL:PT1H
BEGIN:VTIMEZONE
TZID:Europe/Helsinki
BEGIN:DAYLIGHT
TZOFFSETFROM:+0200
TZOFFSETTO:+0300
TZNAME:EEST
DTSTART:20190331T010000
END:DAYLIGHT
BEGIN:STANDARD
TZOFFSETFROM:+0300
TZOFFSETTO:+0200
TZNAME:EET
DTSTART:20191027T010000
END:STANDARD
BEGIN:DAYLIGHT
TZOFFSETFROM:+0200
TZOFFSETTO:+0300
TZNAME:EEST
DTSTART:20200329T010000
END:DAYLIGHT
BEGIN:STANDARD
TZOFFSETFROM:+0300
TZOFFSETTO:+0200
TZNAME:EET
DTSTART:20201025T010000
END:STANDARD
BEGIN:DAYLIGHT
TZOFFSETFROM:+0200
TZOFFSETTO:+0300
TZNAME:EEST
DTSTART:20210328T010000
END:DAYLIGHT
BEGIN:STANDARD
TZOFFSETFROM:+0300
TZOFFSETTO:+0200
TZNAME:EET
DTSTART:20211031T010000
END:STANDARD
BEGIN:DAYLIGHT
TZOFFSETFROM:+0200
TZOFFSETTO:+0300
TZNAME:EEST
DTSTART:20220327T010000
END:DAYLIGHT
BEGIN:STANDARD
TZOFFSETFROM:+0300
TZOFFSETTO:+0200
TZNAME:EET
DTSTART:20221030T010000
END:STANDARD
BEGIN:DAYLIGHT
TZOFFSETFROM:+0200
TZOFFSETTO:+0300
TZNAME:EEST
DTSTART:20230326T010000
END:DAYLIGHT
BEGIN:STANDARD
TZOFFSETFROM:+0300
TZOFFSETTO:+0200
TZNAME:EET
DTSTART:20231029T010000
END:STANDARD
END:VTIMEZONE
BEGIN:VEVENT
DTSTART;TZID=Europe/Helsinki:20220427T090000
DTEND;TZID=Europe/Helsinki:20220427T123000
DTSTAMP:20260419T150305
CREATED:20220425T190424Z
LAST-MODIFIED:20220425T190424Z
UID:1933-1651050000-1651062600@www.edenvalebowls.co.za
SUMMARY:Will you be the last bowler standing?
DESCRIPTION:Join us on Wednesday 27 April at 9am to find out if you will be the Last Bowler Standing!
URL:https://www.edenvalebowls.co.za/event/will-you-be-the-last-bowler-standing/
CATEGORIES:Edenvale Bowls,Holiday,Social
END:VEVENT
BEGIN:VEVENT
DTSTART;TZID=Europe/Helsinki:20211217T180000
DTEND;TZID=Europe/Helsinki:20211217T210000
DTSTAMP:20260419T150305
CREATED:20211213T094725Z
LAST-MODIFIED:20211213T094725Z
UID:1907-1639764000-1639774800@www.edenvalebowls.co.za
SUMMARY:Christmas Dinner 17 December 2021
DESCRIPTION:
URL:https://www.edenvalebowls.co.za/event/christmas-dinner-17-december-2021/
CATEGORIES:Holiday,Social
END:VEVENT
BEGIN:VEVENT
DTSTART;VALUE=DATE:20210924
DTEND;VALUE=DATE:20210925
DTSTAMP:20260419T150305
CREATED:20201118T053956Z
LAST-MODIFIED:20201118T144757Z
UID:1470-1632441600-1632527999@www.edenvalebowls.co.za
SUMMARY:PUBLIC HOLIDAY
DESCRIPTION:
URL:https://www.edenvalebowls.co.za/event/public-holiday-7/
CATEGORIES:Holiday
END:VEVENT
BEGIN:VEVENT
DTSTART;VALUE=DATE:20210809
DTEND;VALUE=DATE:20210810
DTSTAMP:20260419T150305
CREATED:20201118T053956Z
LAST-MODIFIED:20201118T144827Z
UID:1461-1628467200-1628553599@www.edenvalebowls.co.za
SUMMARY:PUBLIC HOLIDAY
DESCRIPTION:
URL:https://www.edenvalebowls.co.za/event/public-holiday-6/
CATEGORIES:Holiday
END:VEVENT
BEGIN:VEVENT
DTSTART;VALUE=DATE:20210616
DTEND;VALUE=DATE:20210617
DTSTAMP:20260419T150305
CREATED:20201118T053955Z
LAST-MODIFIED:20201118T144907Z
UID:1452-1623801600-1623887999@www.edenvalebowls.co.za
SUMMARY:PUBLIC HOLIDAY
DESCRIPTION:
URL:https://www.edenvalebowls.co.za/event/public-holiday-5/
CATEGORIES:Holiday
END:VEVENT
BEGIN:VEVENT
DTSTART;VALUE=DATE:20210501
DTEND;VALUE=DATE:20210502
DTSTAMP:20260419T150305
CREATED:20201118T053955Z
LAST-MODIFIED:20201118T144933Z
UID:1443-1619827200-1619913599@www.edenvalebowls.co.za
SUMMARY:PUBLIC HOLIDAY
DESCRIPTION:
URL:https://www.edenvalebowls.co.za/event/public-holiday-4/
CATEGORIES:Holiday
END:VEVENT
BEGIN:VEVENT
DTSTART;VALUE=DATE:20210405
DTEND;VALUE=DATE:20210406
DTSTAMP:20260419T150305
CREATED:20201118T053954Z
LAST-MODIFIED:20201118T145005Z
UID:1429-1617580800-1617667199@www.edenvalebowls.co.za
SUMMARY:EASTER MONDAY
DESCRIPTION:
URL:https://www.edenvalebowls.co.za/event/easter-monday/
CATEGORIES:Holiday
END:VEVENT
BEGIN:VEVENT
DTSTART;VALUE=DATE:20210402
DTEND;VALUE=DATE:20210403
DTSTAMP:20260419T150305
CREATED:20201118T053954Z
LAST-MODIFIED:20201118T145014Z
UID:1428-1617321600-1617407999@www.edenvalebowls.co.za
SUMMARY:GOOD FRIDAY
DESCRIPTION:
URL:https://www.edenvalebowls.co.za/event/good-friday/
CATEGORIES:Holiday
END:VEVENT
BEGIN:VEVENT
DTSTART;VALUE=DATE:20210322
DTEND;VALUE=DATE:20210323
DTSTAMP:20260419T150305
CREATED:20201118T053954Z
LAST-MODIFIED:20201118T145038Z
UID:1422-1616371200-1616457599@www.edenvalebowls.co.za
SUMMARY:PUBLIC HOLIDAY
DESCRIPTION:
URL:https://www.edenvalebowls.co.za/event/public-holiday-2/
CATEGORIES:Holiday
END:VEVENT
BEGIN:VEVENT
DTSTART;TZID=Europe/Helsinki:20210101T093000
DTEND;TZID=Europe/Helsinki:20210101T100000
DTSTAMP:20260419T150305
CREATED:20201118T053953Z
LAST-MODIFIED:20201118T145159Z
UID:1396-1609493400-1609495200@www.edenvalebowls.co.za
SUMMARY:NEW YEARS DAY
DESCRIPTION:
URL:https://www.edenvalebowls.co.za/event/new-years-day/
CATEGORIES:Holiday
END:VEVENT
BEGIN:VEVENT
DTSTART;VALUE=DATE:20201226
DTEND;VALUE=DATE:20201227
DTSTAMP:20260419T150305
CREATED:20201118T053953Z
LAST-MODIFIED:20201118T145206Z
UID:1395-1608940800-1609027199@www.edenvalebowls.co.za
SUMMARY:BOXING DAY
DESCRIPTION:
URL:https://www.edenvalebowls.co.za/event/boxing-day/
CATEGORIES:Holiday
END:VEVENT
BEGIN:VEVENT
DTSTART;VALUE=DATE:20201225
DTEND;VALUE=DATE:20201226
DTSTAMP:20260419T150305
CREATED:20201118T053953Z
LAST-MODIFIED:20201118T145212Z
UID:1394-1608854400-1608940799@www.edenvalebowls.co.za
SUMMARY:CHRISTMAS DAY
DESCRIPTION:
URL:https://www.edenvalebowls.co.za/event/christmas-day/
CATEGORIES:Holiday
END:VEVENT
BEGIN:VEVENT
DTSTART;VALUE=DATE:20201216
DTEND;VALUE=DATE:20201217
DTSTAMP:20260419T150305
CREATED:20201118T053953Z
LAST-MODIFIED:20201118T145218Z
UID:1392-1608076800-1608163199@www.edenvalebowls.co.za
SUMMARY:PUBLIC HOLIDAY
DESCRIPTION:
URL:https://www.edenvalebowls.co.za/event/public-holiday/
CATEGORIES:Holiday
END:VEVENT
END:VCALENDAR